Workbook

Sheet Zestawienie przychód i kosz
D1: ZESTAWIENIE PRZYCHODÓW I KOSZTÓW | R1: za rok: | S1: 2025
A2: Nazwa podatnika:
A3: Adres:
A5: Lp. | B5: Data zdarzenia lub operacji | C5: Nr dowodu księgowego | D5: Opis zdarzenia | E5: Przychody okreslone w art.. 24 ust. 1 pkt 1 lit. a-d ustawy o kołach gospodyń wiejskich | O5: Koszty | S5: Uwagi
E6: Przychody o których mowa w art. 24 ust. 1 pkt 1 lit. a | G6: Przychody o których mowa w art.. 24 ust. 1 pkt 1 lit. b | I6: Przychody o których mowa w art.. 24 ust. 1 pkt 1 lit. c | K6: Przychody o których mowa w art.. 24 ust. 1 pkt 1 lit. d | M6: Razem przychody (suma z kolumn 5-8) | O6: Koszty uzyskania przychodów | Q6: Koszty niestanowiące kosztów uzyskania przychodów
E7: zł | F7: gr | G7: zł | H7: gr | I7: zł | J7: gr | K7: zł | L7: gr | M7: zł | N7: gr | O7: zł | P7: gr | Q7: zł | R7: gr
A8: 1 | B8: 2 | C8: 3 | D8: 4 | E8: 5 | G8: 6 | I8: 7 | K8: 8 | M8: 9 | O8: 10 | P8: 11 | Q8: 11 | R8: 12 | S8: 12
A9: 1 | M9: =SUM(E9:L9) -> 0
A10: 2 | M10: =SUM(E10:L10) -> 0
A11: 3 | M11: =SUM(E11:L11) -> 0
A12: 4 | M12: =SUM(E12:L12) -> 0
A13: 5 | M13: =SUM(E13:L13) -> 0
A14: 6 | M14: =SUM(E14:L14) -> 0
A15: 7 | M15: =SUM(E15:L15) -> 0
A16: 8 | M16: =SUM(E16:L16) -> 0
A17: 9 | M17: =SUM(E17:L17) -> 0
A18: 10 | M18: =SUM(E18:L18) -> 0
A19: 11 | M19: =SUM(E19:L19) -> 0
A20: 12 | M20: =SUM(E20:L20) -> 0
... A32: 24 | M32: =SUM(E32:L32) -> 0
A33: Suma strony: | E33: =SUM(E9:F32) -> 0 | G33: =SUM(G9:H32) -> 0 | I33: =SUM(I9:J32) -> 0 | K33: =SUM(K9:L32) -> 0 | M33: =SUM(M9:N32) -> 0 | O33: =SUM(O9:P32) -> 0 | Q33: =SUM(Q9:R32) -> 0
A34: Przeniesienie z poprzedniej strony:
A35: Razem w okresie sprawozdawczym: | E35: =SUM(E9:F32) -> 0 | G35: =SUM(G9:H32) -> 0 | I35: =SUM(I9:J32) -> 0 | K35: =SUM(K9:L32) -> 0 | M35: =SUM(M9:N32) -> 0 | O35: =SUM(O9:P32) -> 0 | Q35: =SUM(Q9:R32) -> 0
A36: Razem od początku roku: | E36: =SUM(E9:F32) -> 0 | G36: =SUM(G9:H32) -> 0 | I36: =SUM(I9:J32) -> 0 | K36: =SUM(K9:L32) -> 0 | M36: =SUM(M9:N32) -> 0 | O36: =SUM(O9:P32) -> 0 | Q36: =SUM(Q9:R32) -> 0

Sheet Zestawienie przepływów finans.
D1: ZESTAWIENIE PRZEPŁYWÓW FINANSOWYCH | P1: za rok: | Q1: ='Zestawienie przychód i kosz'!S1 -> 2025
A2: Nazwa podatnika: | D2: ='Zestawienie przychód i kosz'!D2 -> 0
A3: Adres: | D3: ='Zestawienie przychód i kosz'!D3 -> 0
B5: Przychody | D5: Koszty uzyskania przychodu | F5: Dochód w rozumieniu art.. 7 ustawy o podatku dochodowym od osób prawnych | H5: Dochód (przychód) wolny od podatku w roku podatkowym przeznaczonym na cele okreslone w art.. 17 ust. 1 ustawy o podatku dochodowym od osób prawnych | J5: Wydatki na cele określone w art. 17 ust. 1 ustawy o podatku dochodowym od osób prawnych pokryte z dochodu zwolnionego od podatku w roku podatkowym | L5: Dochód wolny od podatku z lat ubiegłych przeznaczony na cele określone w art. 17 ust. 1 ustawy o podatku dochodowym od osób prawnych | N5: Wydatki na cele w rozumieniu art. 17 ust. 1 ustawy o podatku dochodowym od osób prawnych pokryte z dochodu z lat ubiegłych zwolnionego od podatku | P5: Ogółem dochód wolny od podatku niewydatkowany na cele, o których mowa w art. 17 ust. 1 ustawy o podatku dochodowym od osób prawnych
B6: zł | C6: gr | D6: zł | E6: gr | F6: zł | G6: gr | H6: zł | I6: gr | J6: zł | K6: gr | L6: zł | M6: gr | N6: zł | O6: gr | P6: zł | Q6: gr
A7: 1 | B7: 2 | D7: 3 | F7: 4 | H7: 5 | J7: 6 | L7: 7 | N7: 8 | P7: 9
A8: Razem w okresie sprawozdawczym, w tym w zakresie art. 17 ust. 1: | B8: ='Zestawienie przychód i kosz'!M35 -> 0 | D8: ='Zestawienie przychód i kosz'!O35 -> 0 | F8: =B8-D8 -> 0 | H8: =F8 -> 0 | J8: =D8 -> 0 | P8: =L8+H8 -> 0
A9: a) pkt 39a
A10: b) pkt 40
A11: c) pkt 47
A12: ustawy o podatku dochodowym od osób prawnych
A13: Razem od początku roku podatkowego, w tym w zakresie art. 17 ust. 1: | B13: ='Zestawienie przychód i kosz'!M36 -> 0 | D13: ='Zestawienie przychód i kosz'!O36 -> 0 | F13: =B13-D13 -> 0 | H13: =F13 -> 0 | J13: =D13 -> 0 | P13: =L13+H13 -> 0
A14: a) pkt 39a
A15: b) pkt 40
A16: c) pkt 47
A17: ustawy o podatku dochodowym od osób prawnych

Sheet Wykaz Środków Trwałych i WNiP
A1: WYKAZ ŚRODKÓW TRWAŁYCH ORAZ WARTOŚCI NIEMATERIALNYCH I PRAWNYCH | J1: za rok: | K1: ='Zestawienie przychód i kosz'!S1 -> 2025
A2: Nazwa podatnika: | D2: ='Zestawienie przychód i kosz'!D2 -> 0
A3: Adres: | D3: ='Zestawienie przychód i kosz'!D3 -> 0
A5: Lp | B5: Data nabycia | C5: Data przyjęcia do używania | D5: Określenie dokumentu stwierdzającego nabycie | E5: Określenie środka trwałego lub wartości niematerialnej i prawnej | F5: Symbol Klasyfikacji Środków Trwałych | G5: Wartość początkowa | H5: Stawkę amortyzacyjna | I5: kwotę odpisu amortyzacyjnego za dany rok podatkowy | J5: zwiększona wartość początkowa | K5: datę likwidacji oraz przyczynę likwidacji albo datę zbycia środka trwałego lub wartości niematerialnej i prawnej
A6: 1 | B6: 2 | C6: 3 | D6: 4 | E6: 5 | F6: 6 | G6: 7 | H6: 8 | I6: 9 | J6: 10 | K6: 11
A7: 1
A8: 2
A9: 3
A10: 4
A11: 5
A12: 6
A13: 7
A14: 8
A15: 9
A16: 10
A17: 11
A18: 12
... A33: 27
